BEGIN:VCALENDAR
VERSION:2.0
PRODID:-//Hebammenteam Feldkirchen - ECPv6.6.4.2//NONSGML v1.0//EN
CALSCALE:GREGORIAN
METHOD:PUBLISH
X-ORIGINAL-URL:https://hebammenteam-feldkirchen.at
X-WR-CALDESC:Veranstaltungen für Hebammenteam Feldkirchen
REFRESH-INTERVAL;VALUE=DURATION:PT1H
X-Robots-Tag:noindex
X-PUBLISHED-TTL:PT1H
BEGIN:VTIMEZONE
TZID:Europe/Vienna
BEGIN:DAYLIGHT
TZOFFSETFROM:+0100
TZOFFSETTO:+0200
TZNAME:CEST
DTSTART:20260329T010000
END:DAYLIGHT
BEGIN:STANDARD
TZOFFSETFROM:+0200
TZOFFSETTO:+0100
TZNAME:CET
DTSTART:20261025T010000
END:STANDARD
END:VTIMEZONE
BEGIN:VEVENT
DTSTART;TZID=Europe/Vienna:20260430T090000
DTEND;TZID=Europe/Vienna:20260430T101500
DTSTAMP:20260424T155140
CREATED:20251013T174514Z
LAST-MODIFIED:20251013T174514Z
UID:10000352-1777539600-1777544100@hebammenteam-feldkirchen.at
SUMMARY:Rückbildungskurs Vormittag - Babys welcome
DESCRIPTION:Geschlossener Kurs für junge Mamas ab 8 Wochen nach der Geburt \nWährend der Schwangerschaft und der Geburt wird der weibliche Körper als Ganzes und der Beckenboden im speziellen auf besondere Weise gefordert. \nUm die Rückbildung zu fördern und den Beckenboden wieder fit für seine wichtigen Aufgaben zu machen\, empfehlen sich spezielle Übungen. Dabei liegt das Augenmerk auf Verstehen\, Wahrnehmen\, An- und Entspannen. \nBabys sind natürlich willkommen\, allerdings werden die Übungen ohne sie durchgeführt. \nAnmeldung unter: https://pargfrieder.hebamio.at/kurslisteFür weitere Informationen oder bei Fragen an: sabine@hebammenteam-feldkirchen.at
URL:https://hebammenteam-feldkirchen.at/termin/rueckbildungskurs-vormittag-babys-welcome-5/2026-04-30/
LOCATION:Pfarrheim Lacken\, Lacken 7\, Feldkirchen\, 4101
CATEGORIES:Beckenbodentraining
ORGANIZER;CN="Sabine":MAILTO:sabine@hebammenteam-feldkirchen.at
END:VEVENT
BEGIN:VEVENT
DTSTART;TZID=Europe/Vienna:20260430T103000
DTEND;TZID=Europe/Vienna:20260430T111500
DTSTAMP:20260424T155140
CREATED:20260312T090132Z
LAST-MODIFIED:20260312T090132Z
UID:10000374-1777545000-1777547700@hebammenteam-feldkirchen.at
SUMMARY:Babymassage offener Kurs
DESCRIPTION:Modul 3: Bauch\, Beine und Gesicht \nBei der Babymassage werden besonders Bedürfnisse wie zum Beispiel die nach Körperkontakt\, Zuwendung\, Wärme und Geborgenheit gestillt. Dabei werden unter anderem die Entwicklung des Nervensystems gefördert und Bauchschmerzen gelindert.\nFür diesen Kurs ist keine Anmeldung erforderlich. Pro Modul werden die Griffe zu den angegebenen Körperteilen gezeigt.\nZusätzlich gibt es die Möglichkeit das Kind zu wiegen\, und ausreichend Zeit für Fragen und ein gemütliches Beisammensein. \n\nMitzugringen: Matte\, Unterlage\, eine kleine Decke\, eine Puppe/Stofftier falls das Baby schläft\nVorhanden: Matten und Mandelöl\nBei Fragen: hebamme-sabine@gmx.at\n\nElternbildungsgutscheine können eingelöst werden.
URL:https://hebammenteam-feldkirchen.at/termin/babymassage-offener-kurs-15/
LOCATION:Pfarrheim Lacken\, Lacken 7\, Feldkirchen\, 4101
CATEGORIES:Babymassage
ORGANIZER;CN="Spiegel Lacken":MAILTO:spiegel_lacken@gmx.at
END:VEVENT
BEGIN:VEVENT
DTSTART;TZID=Europe/Vienna:20260507T090000
DTEND;TZID=Europe/Vienna:20260507T101500
DTSTAMP:20260424T155140
CREATED:20251013T174514Z
LAST-MODIFIED:20251013T174514Z
UID:10000353-1778144400-1778148900@hebammenteam-feldkirchen.at
SUMMARY:Rückbildungskurs Vormittag - Babys welcome
DESCRIPTION:Geschlossener Kurs für junge Mamas ab 8 Wochen nach der Geburt \nWährend der Schwangerschaft und der Geburt wird der weibliche Körper als Ganzes und der Beckenboden im speziellen auf besondere Weise gefordert. \nUm die Rückbildung zu fördern und den Beckenboden wieder fit für seine wichtigen Aufgaben zu machen\, empfehlen sich spezielle Übungen. Dabei liegt das Augenmerk auf Verstehen\, Wahrnehmen\, An- und Entspannen. \nBabys sind natürlich willkommen\, allerdings werden die Übungen ohne sie durchgeführt. \nAnmeldung unter: https://pargfrieder.hebamio.at/kurslisteFür weitere Informationen oder bei Fragen an: sabine@hebammenteam-feldkirchen.at
URL:https://hebammenteam-feldkirchen.at/termin/rueckbildungskurs-vormittag-babys-welcome-5/2026-05-07/
LOCATION:Pfarrheim Lacken\, Lacken 7\, Feldkirchen\, 4101
CATEGORIES:Beckenbodentraining
ORGANIZER;CN="Sabine":MAILTO:sabine@hebammenteam-feldkirchen.at
END:VEVENT
BEGIN:VEVENT
DTSTART;TZID=Europe/Vienna:20260529T140000
DTEND;TZID=Europe/Vienna:20260529T180000
DTSTAMP:20260424T155140
CREATED:20260413T063132Z
LAST-MODIFIED:20260413T063132Z
UID:10000375-1780063200-1780077600@hebammenteam-feldkirchen.at
SUMMARY:Geburtsvorbereitungskurs
DESCRIPTION:Du willst gut vorbereitet in das Abenteuer Geburt starten? Wir – das Hebammenteam Feldkirchen – bieten dir die Möglichkeit dazu! \nUnser Geburtsvorbereitungskurs besteht aus 2 Halbtagen zu je 4 Stunden\, in denen wir alle wichtigen Themen rund um die Geburt besprechen werden. Im Kursbeitrag ist auch ein ausführliches Skript zum Nachlesen enthalten. \nAn den 2 Halbtagen befassen wir uns mit den Themen Schwangerschaft\, Geburt\, Stillen und Wochenbett\, sowie Schmerzerleichterung und Entspannung. \nAnmeldung unter Hebamio
URL:https://hebammenteam-feldkirchen.at/termin/geburtsvorbereitungskurs-4/2026-05-29/
LOCATION:Pfarrheim Lacken\, Lacken 7\, Feldkirchen\, 4101
CATEGORIES:Geburtsvorbereitungskurs
ORGANIZER;CN="Yvonne":MAILTO:yvonne@hebammenteam-feldkirchen.at
END:VEVENT
BEGIN:VEVENT
DTSTART;TZID=Europe/Vienna:20260601T164500
DTEND;TZID=Europe/Vienna:20260601T180000
DTSTAMP:20260424T155140
CREATED:20251013T175826Z
LAST-MODIFIED:20251013T175826Z
UID:10000359-1780332300-1780336800@hebammenteam-feldkirchen.at
SUMMARY:Rückbildungskurs Abend - Mamas only
DESCRIPTION:Geschlossener Kurs für junge Mamas ab 8 Wochen nach der Geburt \nWährend der Schwangerschaft und der Geburt wird der weibliche Körper als Ganzes und der Beckenboden im speziellen auf besondere Weise gefordert. \nUm die Rückbildung zu fördern und den Beckenboden wieder fit für seine wichtigen Aufgaben zu machen\, empfehlen sich spezielle Übungen. Dabei liegt das Augenmerk auf Verstehen\, Wahrnehmen\, An- und Entspannen. \nDamit du dich besser auf dich und deinen Körper konzentrieren kannst\, ist dieser Kurs bewusst ohne Babys gedacht. Falls das für dich aus organisatorischen oder persönlichen Gründen nicht möglich ist\, besteht die Möglichkeit\, einen anderen Rückbildungskurs mit Baby am Vormittag zu besuchen. \nAnmeldung unter: https://pargfrieder.hebamio.at/kurslisteFür weitere Informationen oder bei Fragen an: sabine@hebammenteam-feldkirchen.at
URL:https://hebammenteam-feldkirchen.at/termin/rueckbildungskurs-abend-mamas-only-5/2026-06-01/
LOCATION:Pfarrheim Lacken\, Lacken 7\, Feldkirchen\, 4101
CATEGORIES:Beckenbodentraining
ORGANIZER;CN="Sabine":MAILTO:sabine@hebammenteam-feldkirchen.at
END:VEVENT
BEGIN:VEVENT
DTSTART;TZID=Europe/Vienna:20260608T164500
DTEND;TZID=Europe/Vienna:20260608T180000
DTSTAMP:20260424T155140
CREATED:20251013T175826Z
LAST-MODIFIED:20251013T175826Z
UID:10000360-1780937100-1780941600@hebammenteam-feldkirchen.at
SUMMARY:Rückbildungskurs Abend - Mamas only
DESCRIPTION:Geschlossener Kurs für junge Mamas ab 8 Wochen nach der Geburt \nWährend der Schwangerschaft und der Geburt wird der weibliche Körper als Ganzes und der Beckenboden im speziellen auf besondere Weise gefordert. \nUm die Rückbildung zu fördern und den Beckenboden wieder fit für seine wichtigen Aufgaben zu machen\, empfehlen sich spezielle Übungen. Dabei liegt das Augenmerk auf Verstehen\, Wahrnehmen\, An- und Entspannen. \nDamit du dich besser auf dich und deinen Körper konzentrieren kannst\, ist dieser Kurs bewusst ohne Babys gedacht. Falls das für dich aus organisatorischen oder persönlichen Gründen nicht möglich ist\, besteht die Möglichkeit\, einen anderen Rückbildungskurs mit Baby am Vormittag zu besuchen. \nAnmeldung unter: https://pargfrieder.hebamio.at/kurslisteFür weitere Informationen oder bei Fragen an: sabine@hebammenteam-feldkirchen.at
URL:https://hebammenteam-feldkirchen.at/termin/rueckbildungskurs-abend-mamas-only-5/2026-06-08/
LOCATION:Pfarrheim Lacken\, Lacken 7\, Feldkirchen\, 4101
CATEGORIES:Beckenbodentraining
ORGANIZER;CN="Sabine":MAILTO:sabine@hebammenteam-feldkirchen.at
END:VEVENT
BEGIN:VEVENT
DTSTART;TZID=Europe/Vienna:20260612T140000
DTEND;TZID=Europe/Vienna:20260612T180000
DTSTAMP:20260424T155140
CREATED:20260413T063132Z
LAST-MODIFIED:20260413T063132Z
UID:10000376-1781272800-1781287200@hebammenteam-feldkirchen.at
SUMMARY:Geburtsvorbereitungskurs
DESCRIPTION:Du willst gut vorbereitet in das Abenteuer Geburt starten? Wir – das Hebammenteam Feldkirchen – bieten dir die Möglichkeit dazu! \nUnser Geburtsvorbereitungskurs besteht aus 2 Halbtagen zu je 4 Stunden\, in denen wir alle wichtigen Themen rund um die Geburt besprechen werden. Im Kursbeitrag ist auch ein ausführliches Skript zum Nachlesen enthalten. \nAn den 2 Halbtagen befassen wir uns mit den Themen Schwangerschaft\, Geburt\, Stillen und Wochenbett\, sowie Schmerzerleichterung und Entspannung. \nAnmeldung unter Hebamio
URL:https://hebammenteam-feldkirchen.at/termin/geburtsvorbereitungskurs-4/2026-06-12/
LOCATION:Pfarrheim Lacken\, Lacken 7\, Feldkirchen\, 4101
CATEGORIES:Geburtsvorbereitungskurs
ORGANIZER;CN="Yvonne":MAILTO:yvonne@hebammenteam-feldkirchen.at
END:VEVENT
BEGIN:VEVENT
DTSTART;TZID=Europe/Vienna:20260615T164500
DTEND;TZID=Europe/Vienna:20260615T180000
DTSTAMP:20260424T155140
CREATED:20251013T175826Z
LAST-MODIFIED:20251013T175826Z
UID:10000361-1781541900-1781546400@hebammenteam-feldkirchen.at
SUMMARY:Rückbildungskurs Abend - Mamas only
DESCRIPTION:Geschlossener Kurs für junge Mamas ab 8 Wochen nach der Geburt \nWährend der Schwangerschaft und der Geburt wird der weibliche Körper als Ganzes und der Beckenboden im speziellen auf besondere Weise gefordert. \nUm die Rückbildung zu fördern und den Beckenboden wieder fit für seine wichtigen Aufgaben zu machen\, empfehlen sich spezielle Übungen. Dabei liegt das Augenmerk auf Verstehen\, Wahrnehmen\, An- und Entspannen. \nDamit du dich besser auf dich und deinen Körper konzentrieren kannst\, ist dieser Kurs bewusst ohne Babys gedacht. Falls das für dich aus organisatorischen oder persönlichen Gründen nicht möglich ist\, besteht die Möglichkeit\, einen anderen Rückbildungskurs mit Baby am Vormittag zu besuchen. \nAnmeldung unter: https://pargfrieder.hebamio.at/kurslisteFür weitere Informationen oder bei Fragen an: sabine@hebammenteam-feldkirchen.at
URL:https://hebammenteam-feldkirchen.at/termin/rueckbildungskurs-abend-mamas-only-5/2026-06-15/
LOCATION:Pfarrheim Lacken\, Lacken 7\, Feldkirchen\, 4101
CATEGORIES:Beckenbodentraining
ORGANIZER;CN="Sabine":MAILTO:sabine@hebammenteam-feldkirchen.at
END:VEVENT
BEGIN:VEVENT
DTSTART;TZID=Europe/Vienna:20260622T164500
DTEND;TZID=Europe/Vienna:20260622T180000
DTSTAMP:20260424T155140
CREATED:20251013T175826Z
LAST-MODIFIED:20251013T175826Z
UID:10000362-1782146700-1782151200@hebammenteam-feldkirchen.at
SUMMARY:Rückbildungskurs Abend - Mamas only
DESCRIPTION:Geschlossener Kurs für junge Mamas ab 8 Wochen nach der Geburt \nWährend der Schwangerschaft und der Geburt wird der weibliche Körper als Ganzes und der Beckenboden im speziellen auf besondere Weise gefordert. \nUm die Rückbildung zu fördern und den Beckenboden wieder fit für seine wichtigen Aufgaben zu machen\, empfehlen sich spezielle Übungen. Dabei liegt das Augenmerk auf Verstehen\, Wahrnehmen\, An- und Entspannen. \nDamit du dich besser auf dich und deinen Körper konzentrieren kannst\, ist dieser Kurs bewusst ohne Babys gedacht. Falls das für dich aus organisatorischen oder persönlichen Gründen nicht möglich ist\, besteht die Möglichkeit\, einen anderen Rückbildungskurs mit Baby am Vormittag zu besuchen. \nAnmeldung unter: https://pargfrieder.hebamio.at/kurslisteFür weitere Informationen oder bei Fragen an: sabine@hebammenteam-feldkirchen.at
URL:https://hebammenteam-feldkirchen.at/termin/rueckbildungskurs-abend-mamas-only-5/2026-06-22/
LOCATION:Pfarrheim Lacken\, Lacken 7\, Feldkirchen\, 4101
CATEGORIES:Beckenbodentraining
ORGANIZER;CN="Sabine":MAILTO:sabine@hebammenteam-feldkirchen.at
END:VEVENT
BEGIN:VEVENT
DTSTART;TZID=Europe/Vienna:20260629T164500
DTEND;TZID=Europe/Vienna:20260629T180000
DTSTAMP:20260424T155140
CREATED:20251013T175826Z
LAST-MODIFIED:20251013T175826Z
UID:10000363-1782751500-1782756000@hebammenteam-feldkirchen.at
SUMMARY:Rückbildungskurs Abend - Mamas only
DESCRIPTION:Geschlossener Kurs für junge Mamas ab 8 Wochen nach der Geburt \nWährend der Schwangerschaft und der Geburt wird der weibliche Körper als Ganzes und der Beckenboden im speziellen auf besondere Weise gefordert. \nUm die Rückbildung zu fördern und den Beckenboden wieder fit für seine wichtigen Aufgaben zu machen\, empfehlen sich spezielle Übungen. Dabei liegt das Augenmerk auf Verstehen\, Wahrnehmen\, An- und Entspannen. \nDamit du dich besser auf dich und deinen Körper konzentrieren kannst\, ist dieser Kurs bewusst ohne Babys gedacht. Falls das für dich aus organisatorischen oder persönlichen Gründen nicht möglich ist\, besteht die Möglichkeit\, einen anderen Rückbildungskurs mit Baby am Vormittag zu besuchen. \nAnmeldung unter: https://pargfrieder.hebamio.at/kurslisteFür weitere Informationen oder bei Fragen an: sabine@hebammenteam-feldkirchen.at
URL:https://hebammenteam-feldkirchen.at/termin/rueckbildungskurs-abend-mamas-only-5/2026-06-29/
LOCATION:Pfarrheim Lacken\, Lacken 7\, Feldkirchen\, 4101
CATEGORIES:Beckenbodentraining
ORGANIZER;CN="Sabine":MAILTO:sabine@hebammenteam-feldkirchen.at
END:VEVENT
END:VCALENDAR