BEGIN:VCALENDAR
VERSION:2.0
PRODID:-//Hebammenteam Feldkirchen - ECPv6.6.4.2//NONSGML v1.0//EN
CALSCALE:GREGORIAN
METHOD:PUBLISH
X-ORIGINAL-URL:https://hebammenteam-feldkirchen.at
X-WR-CALDESC:Veranstaltungen für Hebammenteam Feldkirchen
REFRESH-INTERVAL;VALUE=DURATION:PT1H
X-Robots-Tag:noindex
X-PUBLISHED-TTL:PT1H
BEGIN:VTIMEZONE
TZID:Europe/Vienna
BEGIN:DAYLIGHT
TZOFFSETFROM:+0100
TZOFFSETTO:+0200
TZNAME:CEST
DTSTART:20240331T010000
END:DAYLIGHT
BEGIN:STANDARD
TZOFFSETFROM:+0200
TZOFFSETTO:+0100
TZNAME:CET
DTSTART:20241027T010000
END:STANDARD
BEGIN:DAYLIGHT
TZOFFSETFROM:+0100
TZOFFSETTO:+0200
TZNAME:CEST
DTSTART:20250330T010000
END:DAYLIGHT
BEGIN:STANDARD
TZOFFSETFROM:+0200
TZOFFSETTO:+0100
TZNAME:CET
DTSTART:20251026T010000
END:STANDARD
END:VTIMEZONE
BEGIN:VEVENT
DTSTART;TZID=Europe/Vienna:20250307T160000
DTEND;TZID=Europe/Vienna:20250307T180000
DTSTAMP:20260425T165639
CREATED:20250129T120502Z
LAST-MODIFIED:20250331T093454Z
UID:10000260-1741363200-1741370400@hebammenteam-feldkirchen.at
SUMMARY:Workshop Babyschlaf - Schlaf\, Kindlein\, schlaf!?!?
DESCRIPTION:In diesem Workshop dreht sich alles um den Schlaf von Neugeborenen und Babys bis zum ersten Geburtstag – von Schlafzyklen\, Einschlafritualen bis hin zu Mythen rund um den Babyschlaf ist alles dabei … \nElternbildungsgutscheine einlösbar!\nAnmeldung erforderlich über yvonne@stillpraxis.at
URL:https://hebammenteam-feldkirchen.at/termin/workshop-babyschlaf-schlaf-kindlein-schlaf/
LOCATION:EKIZ TiPi\, Hauptstraße 19a\, Walding\, 4111
CATEGORIES:Workshop
ORGANIZER;CN="Yvonne":MAILTO:yvonne@hebammenteam-feldkirchen.at
END:VEVENT
BEGIN:VEVENT
DTSTART;TZID=Europe/Vienna:20250305T093000
DTEND;TZID=Europe/Vienna:20250305T110000
DTSTAMP:20260425T165639
CREATED:20241108T190321Z
LAST-MODIFIED:20250331T093623Z
UID:10000197-1741167000-1741172400@hebammenteam-feldkirchen.at
SUMMARY:STILLTreff
DESCRIPTION:In gemütlicher Atmospäre haben (werdende) Mamas gemeinsam mit ihren Babys die Möglichkeit sich unter fachkundiger Leitung von IBCLC-Stillberaterin und Hebamme Yvonne zu allen Themen rund ums Stillen und Ernährung des Babys im ersten Lebensjahr auszutauschen. \nJedes STILLTreff steht unter einem Thema (Zahnen\, entspannter Stillstart\, Meilensteine der Babyentwicklung\, Beikost\, Schlaf\, Tragen\, etc)\, die Themen der Eltern haben aber immer Vorrang und der Fokus des STILLTreffs liegt im Austausch der Eltern untereinander. \nSelbstverständlich sind auch alle Papas und nicht/teilstillende Mamas herzlich zu den STILLTreffs eingeladen. \nEs ist keine Anmeldung nötig – der STILLTreff soll ein offenes Angebot für ALLE sein. \nBei Fragen oder für weitere Infos 0660 1982 766 oder per Mail an yvonne@hebammenteam-feldkirchen.at
URL:https://hebammenteam-feldkirchen.at/termin/stilltreff-4/
LOCATION:Curhaus Bad Mühllacken\, Bad Mühllacken 55\, Feldkirchen\, 4101
CATEGORIES:STILLTreff
ORGANIZER;CN="Yvonne":MAILTO:yvonne@hebammenteam-feldkirchen.at
END:VEVENT
BEGIN:VEVENT
DTSTART;TZID=Europe/Vienna:20250224T143000
DTEND;TZID=Europe/Vienna:20250224T160000
DTSTAMP:20260425T165639
CREATED:20241113T061311Z
LAST-MODIFIED:20250331T094156Z
UID:10000252-1740407400-1740412800@hebammenteam-feldkirchen.at
SUMMARY:Stillgruppe Gramastetten
DESCRIPTION:Stillgruppe/Babytreff Gramastetten findet jeweils am 4. Montag im Monat von 14.30-16.00 in den Räumlichkeiten der Eltern-/Mutterberatung im EKIZ statt. \nDie Gruppe ist für alle Mütter/Eltern von Babys und Kleinkindern im Alter von 0-2 Jahren offen. Eine Anmeldung ist nicht erforderlich. \nTermine und Themen 01- 06/25:\n27.01.2025: Mit dem Baby durch den Winter\n24.02.2025: Babyschlaf\n24.03.2025: Stillen – solange wie wir wollen\n28.04.2025: Beikost\n26.05.2025: Stillen und Berufstätigkeit\n23.06.2025: Abstillen
URL:https://hebammenteam-feldkirchen.at/termin/stillgruppe-gramastetten-2/
LOCATION:EKIZ Gramastetten\, Linzerstraße 10\, Gramastetten\, 4201
CATEGORIES:STILLTreff
ORGANIZER;CN="Yvonne":MAILTO:yvonne@hebammenteam-feldkirchen.at
END:VEVENT
BEGIN:VEVENT
DTSTART;TZID=Europe/Vienna:20250212T090000
DTEND;TZID=Europe/Vienna:20250212T110000
DTSTAMP:20260425T165639
CREATED:20241110T133223Z
LAST-MODIFIED:20250331T094234Z
UID:10000244-1739350800-1739358000@hebammenteam-feldkirchen.at
SUMMARY:Eltern-/ Mutter-Beratung Feldkirchen
DESCRIPTION:Eltern-/ Mutterberatung der Kinder- und Jugendhilfe\nJeden 2. Mittwoch im Monat\, jewils von 09:00 bis 11:00 mit Stillberatung und Psychologin. \nKeine Anmeldung erforderlich! Kostenlos! \nLeitung: Michaela Schöndorfer (Dipl. Sozialarbeiterin der BH Urfahr-Umgebung) in Zusammenarbeit mit Mag. Michaela Treml (Psychologin) und Mag. Yvonne Gruber-Traxler (Hebamme).
URL:https://hebammenteam-feldkirchen.at/termin/eltern-mutter-beratung-feldkirchen-2/
LOCATION:EKiZ Hereinspaziert\, Hauptstraße 1\, Feldkirchen\, 4101\, Austria
CATEGORIES:Mutterberatung
ORGANIZER;CN="Yvonne":MAILTO:yvonne@hebammenteam-feldkirchen.at
END:VEVENT
BEGIN:VEVENT
DTSTART;TZID=Europe/Vienna:20250127T143000
DTEND;TZID=Europe/Vienna:20250127T160000
DTSTAMP:20260425T165639
CREATED:20241113T061009Z
LAST-MODIFIED:20250331T094936Z
UID:10000251-1737988200-1737993600@hebammenteam-feldkirchen.at
SUMMARY:Stillgruppe Gramastetten
DESCRIPTION:Stillgruppe/Babytreff Gramastetten findet jeweils am 4. Montag im Monat von 14.30-16.00 in den Räumlichkeiten der Eltern-/Mutterberatung im EKIZ statt. \nDie Gruppe ist für alle Mütter/Eltern von Babys und Kleinkindern im Alter von 0-2 Jahren offen. Eine Anmeldung ist nicht erforderlich. \nTermine und Themen 01- 06/25:\n27.01.2025: Mit dem Baby durch den Winter\n24.02.2025: Babyschlaf\n24.03.2025: Stillen – solange wie wir wollen\n28.04.2025: Beikost\n26.05.2025: Stillen und Berufstätigkeit\n23.06.2025: Abstillen
URL:https://hebammenteam-feldkirchen.at/termin/stillgruppe-gramastetten/
LOCATION:EKIZ Gramastetten\, Linzerstraße 10\, Gramastetten\, 4201
CATEGORIES:STILLTreff
ORGANIZER;CN="Yvonne":MAILTO:yvonne@hebammenteam-feldkirchen.at
END:VEVENT
BEGIN:VEVENT
DTSTART;TZID=Europe/Vienna:20250108T100000
DTEND;TZID=Europe/Vienna:20250108T120000
DTSTAMP:20260425T165639
CREATED:20241110T133129Z
LAST-MODIFIED:20241110T133129Z
UID:10000243-1736330400-1736337600@hebammenteam-feldkirchen.at
SUMMARY:Eltern-/ Mutter-Beratung Feldkirchen
DESCRIPTION:Eltern-/ Mutterberatung der Kinder- und Jugendhilfe\nJeden 2. Mittwoch im Monat\, jewils von 09:00 bis 11:00 mit Stillberatung und Psychologin. \nKeine Anmeldung erforderlich! Kostenlos! \nLeitung: Michaela Schöndorfer (Dipl. Sozialarbeiterin der BH Urfahr-Umgebung) in Zusammenarbeit mit Mag. Michaela Treml (Psychologin) und Mag. Yvonne Gruber-Traxler (Hebamme).
URL:https://hebammenteam-feldkirchen.at/termin/eltern-mutter-beratung-feldkirchen/
LOCATION:EKiZ Hereinspaziert\, Hauptstraße 1\, Feldkirchen\, 4101\, Austria
CATEGORIES:Mutterberatung
ORGANIZER;CN="Yvonne":MAILTO:yvonne@hebammenteam-feldkirchen.at
END:VEVENT
BEGIN:VEVENT
DTSTART;TZID=Europe/Vienna:20241204T103000
DTEND;TZID=Europe/Vienna:20241204T120000
DTSTAMP:20260425T165639
CREATED:20240908T161353Z
LAST-MODIFIED:20240908T161353Z
UID:10000150-1733308200-1733313600@hebammenteam-feldkirchen.at
SUMMARY:STILLTreff
DESCRIPTION:In gemütlicher Atmospäre haben (werdende) Mamas gemeinsam mit ihren Babys die Möglichkeit sich unter fachkundiger Leitung von IBCLC-Stillberaterin und Hebamme Yvonne zu allen Themen rund ums Stillen und Ernährung des Babys im ersten Lebensjahr auszutauschen. \nJedes STILLTreff steht unter einem Thema (Zahnen\, entspannter Stillstart\, Meilensteine der Babyentwicklung\, Beikost\, Schlaf\, Tragen\, etc)\, die Themen der Eltern haben aber immer Vorrang und der Fokus des STILLTreffs liegt im Austausch der Eltern untereinander. \nSelbstverständlich sind auch alle Papas und nicht/teilstillende Mamas herzlich zu den STILLTreffs eingeladen. \nEs ist keine Anmeldung nötig – der STILLTreff soll ein offenes Angebot für ALLE sein. \nBei Fragen oder für weitere Infos 0660 1982 766 oder per Mail an yvonne@hebammenteam-feldkirchen.at
URL:https://hebammenteam-feldkirchen.at/termin/stilltreff-3/
LOCATION:Curhaus Bad Mühllacken\, Bad Mühllacken 55\, Feldkirchen\, 4101
CATEGORIES:STILLTreff
ORGANIZER;CN="Yvonne":MAILTO:yvonne@hebammenteam-feldkirchen.at
END:VEVENT
BEGIN:VEVENT
DTSTART;TZID=Europe/Vienna:20241116T100000
DTEND;TZID=Europe/Vienna:20241116T130000
DTSTAMP:20260425T165639
CREATED:20241106T063411Z
LAST-MODIFIED:20241106T063411Z
UID:10000196-1731751200-1731762000@hebammenteam-feldkirchen.at
SUMMARY:Workshop Hausmittel für Babys und Kleinkinder
DESCRIPTION:Bei Erkältungen\, Infekten und kleineren Wehwehchen liegt eine Linderung oft näher\, als man denkt: viele wirksame Hausmittel lassen sich mit Zutaten aus dem Küchenschrank oder mit Kräutern und Pflanzen aus dem Garten zubereiten. \nWas erwartet dich beim Workshop?\nNach einer kurzen Waren- und Kräuterkunde widmen wir uns der Herstellung von Auflagen\, Wickeln\, Tees und Sirupen. Neben den Klassikern wie Topfenwickel und Essigpatscherl\, wird auch die Herstellung eines Bienenwachswickels gezeigt. \nAuch Tees\, verschiedene Sirupe und Ölmischungen werden im Rahmen des Workshops besprochen und zubereitet. \nDie Anwendung der Methoden wird an Puppen demonstriert und kann auch gerne praktisch ausprobiert werden. Die Tees und Sirupe können im Rahmen der Veranstaltung verkostet werden – ein kurzes Skriptum mit Rezepten und Anleitungen ist im Preis inbegriffen.
URL:https://hebammenteam-feldkirchen.at/termin/workshop-hausmittel-fuer-babys-und-kleinkinder-2/
LOCATION:Curhaus Bad Mühllacken\, Bad Mühllacken 55\, Feldkirchen\, 4101
CATEGORIES:Workshop
ORGANIZER;CN="Yvonne":MAILTO:yvonne@hebammenteam-feldkirchen.at
END:VEVENT
BEGIN:VEVENT
DTSTART;TZID=Europe/Vienna:20241115T170000
DTEND;TZID=Europe/Vienna:20241115T190000
DTSTAMP:20260425T165639
CREATED:20240908T154235Z
LAST-MODIFIED:20241008T163353Z
UID:10000136-1731690000-1731697200@hebammenteam-feldkirchen.at
SUMMARY:Beikost-Workshop - Von der Brust zum Familientisch
DESCRIPTION:Die Einführung der Beikost stellt Eltern vor einige Herausforderungen:\nWann starten? Wie starten? Womit starten? Was ist der Vorteil von Breien? Was hat es mit BLW auf sich? Und muß jedes Baby mit Karotte starten?\nDiese Fragen und noch vielen mehr widmen wir uns beim Beikost-Workshop… \nAnmeldung erforderlich über yvonne@stillpraxis.at
URL:https://hebammenteam-feldkirchen.at/termin/beikost-workshop-von-der-brust-zum-familientisch/
LOCATION:EKIZ TiPi\, Hauptstraße 19a\, Walding\, 4111
CATEGORIES:Workshop
ORGANIZER;CN="Yvonne":MAILTO:yvonne@hebammenteam-feldkirchen.at
END:VEVENT
BEGIN:VEVENT
DTSTART;TZID=Europe/Vienna:20241108T150000
DTEND;TZID=Europe/Vienna:20241108T190000
DTSTAMP:20260425T165639
CREATED:20240908T150945Z
LAST-MODIFIED:20240908T150945Z
UID:10000135-1731078000-1731092400@hebammenteam-feldkirchen.at
SUMMARY:Stillvorbereitungsnachmittag für schwangere Frauen
DESCRIPTION:Du bist schwanger und möchtest dich auf das Stillen vorbereiten? Dann bist du hier richtig – in gemütlicher Atmosphäre werden wir uns an diesem Nachmittag mit einer Vielzahl an Themen rund ums tillen beschäftigen:\nGrundlagen der Milchbildung\, Geburt\, Bonding & erstes Anlegen\, Stillen in den ersten Lebenswochen\, Anlegetechniken und Stillpositionen\, Stillhilfsmittel\, Rolle der Väter beim Stillen\, Vorbeugen von Stillproblemen (wunde Mamillen\, Milchstau\, etc)\, und vieles mehr… \nAnmeldung erforderlich über yvonne@stillpraxis.at
URL:https://hebammenteam-feldkirchen.at/termin/stillvorbereitungsnachmittag-fuer-schwangere-frauen/
LOCATION:EKIZ TiPi\, Hauptstraße 19a\, Walding\, 4111
ORGANIZER;CN="Yvonne":MAILTO:yvonne@hebammenteam-feldkirchen.at
END:VEVENT
BEGIN:VEVENT
DTSTART;TZID=Europe/Vienna:20241106T103000
DTEND;TZID=Europe/Vienna:20241106T120000
DTSTAMP:20260425T165639
CREATED:20240908T161302Z
LAST-MODIFIED:20240908T161302Z
UID:10000149-1730889000-1730894400@hebammenteam-feldkirchen.at
SUMMARY:STILLTreff
DESCRIPTION:In gemütlicher Atmospäre haben (werdende) Mamas gemeinsam mit ihren Babys die Möglichkeit sich unter fachkundiger Leitung von IBCLC-Stillberaterin und Hebamme Yvonne zu allen Themen rund ums Stillen und Ernährung des Babys im ersten Lebensjahr auszutauschen. \nJedes STILLTreff steht unter einem Thema (Zahnen\, entspannter Stillstart\, Meilensteine der Babyentwicklung\, Beikost\, Schlaf\, Tragen\, etc)\, die Themen der Eltern haben aber immer Vorrang und der Fokus des STILLTreffs liegt im Austausch der Eltern untereinander. \nSelbstverständlich sind auch alle Papas und nicht/teilstillende Mamas herzlich zu den STILLTreffs eingeladen. \nEs ist keine Anmeldung nötig – der STILLTreff soll ein offenes Angebot für ALLE sein. \nBei Fragen oder für weitere Infos 0660 1982 766 oder per Mail an yvonne@hebammenteam-feldkirchen.at
URL:https://hebammenteam-feldkirchen.at/termin/stilltreff-2/
LOCATION:Curhaus Bad Mühllacken\, Bad Mühllacken 55\, Feldkirchen\, 4101
CATEGORIES:STILLTreff
ORGANIZER;CN="Yvonne":MAILTO:yvonne@hebammenteam-feldkirchen.at
END:VEVENT
BEGIN:VEVENT
DTSTART;TZID=Europe/Vienna:20241023T110000
DTEND;TZID=Europe/Vienna:20241023T130000
DTSTAMP:20260425T165639
CREATED:20241008T163103Z
LAST-MODIFIED:20241008T164100Z
UID:10000193-1729681200-1729688400@hebammenteam-feldkirchen.at
SUMMARY:Eltern-/ Mutter-Beratung Feldkirchen
DESCRIPTION:Eltern-/ Mutterberatung der Kinder- und Jugendhilfe\nJeden 4. Mittwoch im Monat\, jewils von 09:00 bis 11:00 mit Stillberatung und Psychologin. \nKeine Anmeldung erforderlich! Kostenlos! \nLeitung: Michaela Schöndorfer (Dipl. Sozialarbeiterin der BH Urfahr-Umgebung) in Zusammenarbeit mit Mag. Michaela Treml (Psychologin) und Mag. Yvonne Gruber-Traxler (Hebamme).
URL:https://hebammenteam-feldkirchen.at/termin/eltern-mutterberatung-feldkirchen/
LOCATION:EKiZ Hereinspaziert\, Hauptstraße 1\, Feldkirchen\, 4101\, Austria
CATEGORIES:Mutterberatung
ORGANIZER;CN="Yvonne":MAILTO:yvonne@hebammenteam-feldkirchen.at
END:VEVENT
BEGIN:VEVENT
DTSTART;TZID=Europe/Vienna:20241016T113000
DTEND;TZID=Europe/Vienna:20241016T130000
DTSTAMP:20260425T165639
CREATED:20240908T161033Z
LAST-MODIFIED:20240908T161033Z
UID:10000148-1729078200-1729083600@hebammenteam-feldkirchen.at
SUMMARY:STILLTreff
DESCRIPTION:In gemütlicher Atmospäre haben (werdende) Mamas gemeinsam mit ihren Babys die Möglichkeit sich unter fachkundiger Leitung von IBCLC-Stillberaterin und Hebamme Yvonne zu allen Themen rund ums Stillen und Ernährung des Babys im ersten Lebensjahr auszutauschen. \nJedes STILLTreff steht unter einem Thema (Zahnen\, entspannter Stillstart\, Meilensteine der Babyentwicklung\, Beikost\, Schlaf\, Tragen\, etc)\, die Themen der Eltern haben aber immer Vorrang und der Fokus des STILLTreffs liegt im Austausch der Eltern untereinander. \nSelbstverständlich sind auch alle Papas und nicht/teilstillende Mamas herzlich zu den STILLTreffs eingeladen. \nEs ist keine Anmeldung nötig – der STILLTreff soll ein offenes Angebot für ALLE sein. \nBei Fragen oder für weitere Infos 0660 1982 766 oder per Mail an yvonne@hebammenteam-feldkirchen.at
URL:https://hebammenteam-feldkirchen.at/termin/stilltreff/
LOCATION:Curhaus Bad Mühllacken\, Bad Mühllacken 55\, Feldkirchen\, 4101
CATEGORIES:STILLTreff
ORGANIZER;CN="Yvonne":MAILTO:yvonne@hebammenteam-feldkirchen.at
END:VEVENT
BEGIN:VEVENT
DTSTART;TZID=Europe/Vienna:20240911T113000
DTEND;TZID=Europe/Vienna:20240911T130000
DTSTAMP:20260425T165639
CREATED:20240709T173422Z
LAST-MODIFIED:20240908T154439Z
UID:10000072-1726054200-1726059600@hebammenteam-feldkirchen.at
SUMMARY:STILLTreff mit Yvonne
DESCRIPTION:In gemütlicher Atmospäre haben (werdende) Mamas gemeinsam mit ihren Babys die Möglichkeit sich unter fachkundiger Leitung von IBCLC-Stillberaterin und Hebamme Yvonne zu allen Themen rund ums Stillen und Ernährung des Babys im ersten Lebensjahr auszutauschen. \nJedes STILLTreff steht unter einem Thema (Zahnen\, entspannter Stillstart\, Meilensteine der Babyentwicklung\, Beikost\, Schlaf\, Tragen\, etc)\, die Themen der Eltern haben aber immer Vorrang und der Fokus des STILLTreffs liegt im Austausch der Eltern untereinander. \nSelbstverständlich sind auch alle Papas und nicht/teilstillende Mamas herzlich zu den STILLTreffs eingeladen.
URL:https://hebammenteam-feldkirchen.at/termin/stilltreff-mit-yvonne-2-2/2024-09-11/
LOCATION:Curhaus Bad Mühllacken\, Bad Mühllacken 55\, Feldkirchen\, 4101
CATEGORIES:STILLTreff
ATTACH;FMTTYPE=image/jpeg:https://hebammenteam-feldkirchen.at/wp-content/uploads/2024/03/DSCF0155-3-small-scaled.jpg
ORGANIZER;CN="Yvonne":MAILTO:yvonne@hebammenteam-feldkirchen.at
END:VEVENT
BEGIN:VEVENT
DTSTART;TZID=Europe/Vienna:20240814T113000
DTEND;TZID=Europe/Vienna:20240814T130000
DTSTAMP:20260425T165639
CREATED:20240709T173422Z
LAST-MODIFIED:20240908T154439Z
UID:10000071-1723635000-1723640400@hebammenteam-feldkirchen.at
SUMMARY:STILLTreff mit Yvonne
DESCRIPTION:In gemütlicher Atmospäre haben (werdende) Mamas gemeinsam mit ihren Babys die Möglichkeit sich unter fachkundiger Leitung von IBCLC-Stillberaterin und Hebamme Yvonne zu allen Themen rund ums Stillen und Ernährung des Babys im ersten Lebensjahr auszutauschen. \nJedes STILLTreff steht unter einem Thema (Zahnen\, entspannter Stillstart\, Meilensteine der Babyentwicklung\, Beikost\, Schlaf\, Tragen\, etc)\, die Themen der Eltern haben aber immer Vorrang und der Fokus des STILLTreffs liegt im Austausch der Eltern untereinander. \nSelbstverständlich sind auch alle Papas und nicht/teilstillende Mamas herzlich zu den STILLTreffs eingeladen.
URL:https://hebammenteam-feldkirchen.at/termin/stilltreff-mit-yvonne-2-2/2024-08-14/
LOCATION:Curhaus Bad Mühllacken\, Bad Mühllacken 55\, Feldkirchen\, 4101
CATEGORIES:STILLTreff
ATTACH;FMTTYPE=image/jpeg:https://hebammenteam-feldkirchen.at/wp-content/uploads/2024/03/DSCF0155-3-small-scaled.jpg
ORGANIZER;CN="Yvonne":MAILTO:yvonne@hebammenteam-feldkirchen.at
END:VEVENT
BEGIN:VEVENT
DTSTART;TZID=Europe/Vienna:20240710T113000
DTEND;TZID=Europe/Vienna:20240710T130000
DTSTAMP:20260425T165640
CREATED:20240709T173422Z
LAST-MODIFIED:20240908T154439Z
UID:10000014-1720611000-1720616400@hebammenteam-feldkirchen.at
SUMMARY:STILLTreff mit Yvonne
DESCRIPTION:In gemütlicher Atmospäre haben (werdende) Mamas gemeinsam mit ihren Babys die Möglichkeit sich unter fachkundiger Leitung von IBCLC-Stillberaterin und Hebamme Yvonne zu allen Themen rund ums Stillen und Ernährung des Babys im ersten Lebensjahr auszutauschen. \nJedes STILLTreff steht unter einem Thema (Zahnen\, entspannter Stillstart\, Meilensteine der Babyentwicklung\, Beikost\, Schlaf\, Tragen\, etc)\, die Themen der Eltern haben aber immer Vorrang und der Fokus des STILLTreffs liegt im Austausch der Eltern untereinander. \nSelbstverständlich sind auch alle Papas und nicht/teilstillende Mamas herzlich zu den STILLTreffs eingeladen.
URL:https://hebammenteam-feldkirchen.at/termin/stilltreff-mit-yvonne-2-2/2024-07-10/
LOCATION:Curhaus Bad Mühllacken\, Bad Mühllacken 55\, Feldkirchen\, 4101
CATEGORIES:STILLTreff
ATTACH;FMTTYPE=image/jpeg:https://hebammenteam-feldkirchen.at/wp-content/uploads/2024/03/DSCF0155-3-small-scaled.jpg
ORGANIZER;CN="Yvonne":MAILTO:yvonne@hebammenteam-feldkirchen.at
END:VEVENT
BEGIN:VEVENT
DTSTART;TZID=Europe/Vienna:20240619T113000
DTEND;TZID=Europe/Vienna:20240619T130000
DTSTAMP:20260425T165640
CREATED:20240307T201833Z
LAST-MODIFIED:20240409T040014Z
UID:10000013-1718796600-1718802000@hebammenteam-feldkirchen.at
SUMMARY:STILLTreff mit Yvonne
DESCRIPTION:In gemütlicher Atmospäre haben (werdende) Mamas gemeinsam mit ihren Babys die Möglichkeit sich unter fachkundiger Leitung von IBCLC-Stillberaterin und Hebamme Yvonne zu allen Themen rund ums Stillen und Ernährung des Babys im ersten Lebensjahr auszutauschen. \nJedes STILLTreff steht unter einem Thema (Zahnen\, entspannter Stillstart\, Meilensteine der Babyentwicklung\, Beikost\, Schlaf\, Tragen\, etc)\, die Themen der Eltern haben aber immer Vorrang und der Fokus des STILLTreffs liegt im Austausch der Eltern untereinander. \nSelbstverständlich sind auch alle Papas und nicht/teilstillende Mamas herzlich zu den STILLTreffs eingeladen.
URL:https://hebammenteam-feldkirchen.at/termin/stilltreff-mit-yvonne-2/2024-06-19/
LOCATION:Curhaus Bad Mühllacken\, Bad Mühllacken 55\, Feldkirchen\, 4101
CATEGORIES:STILLTreff
ATTACH;FMTTYPE=image/jpeg:https://hebammenteam-feldkirchen.at/wp-content/uploads/2024/03/DSCF0155-3-small-scaled.jpg
ORGANIZER;CN="Yvonne":MAILTO:yvonne@hebammenteam-feldkirchen.at
END:VEVENT
BEGIN:VEVENT
DTSTART;TZID=Europe/Vienna:20240515T113000
DTEND;TZID=Europe/Vienna:20240515T130000
DTSTAMP:20260425T165640
CREATED:20240307T201833Z
LAST-MODIFIED:20240409T040014Z
UID:10000012-1715772600-1715778000@hebammenteam-feldkirchen.at
SUMMARY:STILLTreff mit Yvonne
DESCRIPTION:In gemütlicher Atmospäre haben (werdende) Mamas gemeinsam mit ihren Babys die Möglichkeit sich unter fachkundiger Leitung von IBCLC-Stillberaterin und Hebamme Yvonne zu allen Themen rund ums Stillen und Ernährung des Babys im ersten Lebensjahr auszutauschen. \nJedes STILLTreff steht unter einem Thema (Zahnen\, entspannter Stillstart\, Meilensteine der Babyentwicklung\, Beikost\, Schlaf\, Tragen\, etc)\, die Themen der Eltern haben aber immer Vorrang und der Fokus des STILLTreffs liegt im Austausch der Eltern untereinander. \nSelbstverständlich sind auch alle Papas und nicht/teilstillende Mamas herzlich zu den STILLTreffs eingeladen.
URL:https://hebammenteam-feldkirchen.at/termin/stilltreff-mit-yvonne-2/2024-05-15/
LOCATION:Curhaus Bad Mühllacken\, Bad Mühllacken 55\, Feldkirchen\, 4101
CATEGORIES:STILLTreff
ATTACH;FMTTYPE=image/jpeg:https://hebammenteam-feldkirchen.at/wp-content/uploads/2024/03/DSCF0155-3-small-scaled.jpg
ORGANIZER;CN="Yvonne":MAILTO:yvonne@hebammenteam-feldkirchen.at
END:VEVENT
BEGIN:VEVENT
DTSTART;TZID=Europe/Vienna:20240417T113000
DTEND;TZID=Europe/Vienna:20240417T130000
DTSTAMP:20260425T165640
CREATED:20240307T201833Z
LAST-MODIFIED:20240409T040014Z
UID:10000002-1713353400-1713358800@hebammenteam-feldkirchen.at
SUMMARY:STILLTreff mit Yvonne
DESCRIPTION:In gemütlicher Atmospäre haben (werdende) Mamas gemeinsam mit ihren Babys die Möglichkeit sich unter fachkundiger Leitung von IBCLC-Stillberaterin und Hebamme Yvonne zu allen Themen rund ums Stillen und Ernährung des Babys im ersten Lebensjahr auszutauschen. \nJedes STILLTreff steht unter einem Thema (Zahnen\, entspannter Stillstart\, Meilensteine der Babyentwicklung\, Beikost\, Schlaf\, Tragen\, etc)\, die Themen der Eltern haben aber immer Vorrang und der Fokus des STILLTreffs liegt im Austausch der Eltern untereinander. \nSelbstverständlich sind auch alle Papas und nicht/teilstillende Mamas herzlich zu den STILLTreffs eingeladen.
URL:https://hebammenteam-feldkirchen.at/termin/stilltreff-mit-yvonne-2/2024-04-17/
LOCATION:Curhaus Bad Mühllacken\, Bad Mühllacken 55\, Feldkirchen\, 4101
CATEGORIES:STILLTreff
ATTACH;FMTTYPE=image/jpeg:https://hebammenteam-feldkirchen.at/wp-content/uploads/2024/03/DSCF0155-3-small-scaled.jpg
ORGANIZER;CN="Yvonne":MAILTO:yvonne@hebammenteam-feldkirchen.at
END:VEVENT
BEGIN:VEVENT
DTSTART;TZID=Europe/Vienna:20240313T093000
DTEND;TZID=Europe/Vienna:20240313T110000
DTSTAMP:20260425T165640
CREATED:20240307T200505Z
LAST-MODIFIED:20240308T062634Z
UID:10000001-1710322200-1710327600@hebammenteam-feldkirchen.at
SUMMARY:STILLTreff
DESCRIPTION:In gemütlicher Atmospäre haben (werdende) Mamas gemeinsam mit ihren Babys die Möglichkeit sich unter fachkundiger Leitung von IBCLC-Stillberaterin und Hebamme Yvonne zu allen Themen rund ums Stillen und Ernährung des Babys im ersten Lebensjahr auszutauschen. \nJedes STILLTreff steht unter einem Thema (Zahnen\, entspannter Stillstart\, Meilensteine der Babyentwicklung\, Beikost\, Schlaf\, Tragen\, etc)\, die Themen der Eltern haben aber immer Vorrang und der Fokus des STILLTreffs liegt im Austausch der Eltern untereinander. \nSelbstverständlich sind auch alle Paps und nicht/teilstillende Mamas herzlich zu den STILLTreffs eingeladen.
URL:https://hebammenteam-feldkirchen.at/termin/stilltreff-mit-yvonne/
LOCATION:Curhaus Bad Mühllacken\, Bad Mühllacken 55\, Feldkirchen\, 4101
CATEGORIES:STILLTreff
ORGANIZER;CN="Yvonne":MAILTO:yvonne@hebammenteam-feldkirchen.at
END:VEVENT
END:VCALENDAR